Package: MPRAnalyze Version: 1.10.0 Command: rm -rf MPRAnalyze.buildbin-libdir && mkdir MPRAnalyze.buildbin-libdir && /Users/biocbuild/BBS/utils/build-universal.sh MPRAnalyze_1.10.0.tar.gz /Library/Frameworks/R.framework/Versions/Current/Resources/bin/R MPRAnalyze.buildbin-libdir StartedAt: 2021-10-15 03:11:24 -0400 (Fri, 15 Oct 2021) EndedAt: 2021-10-15 03:12:28 -0400 (Fri, 15 Oct 2021) EllapsedTime: 64.2 seconds RetCode: 0 Status: OK PackageFile: MPRAnalyze_1.10.0.tgz PackageFileSize: 620.7 KiB