Package: MQmetrics Version: 1.0.0 Command: rm -rf MQmetrics.buildbin-libdir && mkdir MQmetrics.buildbin-libdir && /Users/biocbuild/BBS/utils/build-universal.sh MQmetrics_1.0.0.tar.gz /Library/Frameworks/R.framework/Versions/Current/Resources/bin/R MQmetrics.buildbin-libdir StartedAt: 2021-10-15 03:11:29 -0400 (Fri, 15 Oct 2021) EndedAt: 2021-10-15 03:12:33 -0400 (Fri, 15 Oct 2021) EllapsedTime: 63.9 seconds RetCode: 0 Status: OK PackageFile: MQmetrics_1.0.0.tgz PackageFileSize: 4.035 MiB