Package: MSGFgui Version: 1.26.0 Command: /Library/Frameworks/R.framework/Versions/Current/Resources/bin/R CMD INSTALL MSGFgui StartedAt: 2021-10-14 08:48:53 -0400 (Thu, 14 Oct 2021) EndedAt: 2021-10-14 08:49:48 -0400 (Thu, 14 Oct 2021) EllapsedTime: 54.7 seconds RetCode: 1 Status: ERROR