Package: MSGFgui Version: 1.26.0 Command: rm -rf MSGFgui.buildbin-libdir && mkdir MSGFgui.buildbin-libdir && C:\Users\biocbuild\bbs-3.13-bioc\R\bin\R.exe --arch x64 CMD INSTALL --no-multiarch --build --library=MSGFgui.buildbin-libdir MSGFgui_1.26.0.tar.gz StartedAt: 2021-10-15 10:33:09 -0400 (Fri, 15 Oct 2021) EndedAt: 2021-10-15 10:34:36 -0400 (Fri, 15 Oct 2021) EllapsedTime: 86.5 seconds RetCode: 0 Status: OK PackageFile: MSGFgui_1.26.0.zip PackageFileSize: 1.399 MiB