Package: MSnID Version: 1.26.0 Command: chmod a+r MSnID -R && C:\Users\biocbuild\bbs-3.13-bioc\R\bin\R.exe CMD build --keep-empty-dirs --no-resave-data MSnID StartedAt: 2021-10-14 15:56:12 -0400 (Thu, 14 Oct 2021) EndedAt: 2021-10-14 16:00:52 -0400 (Thu, 14 Oct 2021) EllapsedTime: 279.8 seconds RetCode: 0 Status: OK PackageFile: MSnID_1.26.0.tar.gz PackageFileSize: 2.961 MiB