Package: MSnID Version: 1.26.0 Command: C:\cygwin\bin\curl.exe -O http://155.52.207.165/BBS/3.13/bioc/src/contrib/MSnID_1.26.0.tar.gz && rm -rf MSnID.buildbin-libdir && mkdir MSnID.buildbin-libdir && C:\Users\biocbuild\bbs-3.13-bioc\R\bin\R.exe CMD INSTALL --merge-multiarch --build --library=MSnID.buildbin-libdir MSnID_1.26.0.tar.gz && C:\Users\biocbuild\bbs-3.13-bioc\R\bin\R.exe CMD INSTALL MSnID_1.26.0.zip && rm MSnID_1.26.0.tar.gz MSnID_1.26.0.zip StartedAt: 2021-10-14 09:06:42 -0400 (Thu, 14 Oct 2021) EndedAt: 2021-10-14 09:08:48 -0400 (Thu, 14 Oct 2021) EllapsedTime: 126.2 seconds RetCode: 0 Status: OK