git_url: https://git.bioconductor.org/packages/MSnbase git_branch: RELEASE_3_13 git_last_commit: 8653c08 git_last_commit_date: 2021-05-19 11:47:43 -0400 (Wed, 19 May 2021) Package: MSnbase Version: 2.18.0 Maintainer: Laurent Gatto MaintainerEmail: laurent.gatto at uclouvain.be