Package: MSnbase Version: 2.18.0 Command: /home/biocbuild/bbs-3.13-bioc/R/bin/R CMD build --keep-empty-dirs --no-resave-data MSnbase StartedAt: 2021-10-14 07:48:21 -0400 (Thu, 14 Oct 2021) EndedAt: 2021-10-14 07:50:33 -0400 (Thu, 14 Oct 2021) EllapsedTime: 132.0 seconds RetCode: 0 Status: OK PackageFile: MSnbase_2.18.0.tar.gz PackageFileSize: 5.561 MiB