Package: MSstatsPTM Version: 1.2.4 Command: rm -rf MSstatsPTM.buildbin-libdir && mkdir MSstatsPTM.buildbin-libdir && /Users/biocbuild/BBS/utils/build-universal.sh MSstatsPTM_1.2.4.tar.gz /Library/Frameworks/R.framework/Versions/Current/Resources/bin/R MSstatsPTM.buildbin-libdir StartedAt: 2021-10-15 03:13:09 -0400 (Fri, 15 Oct 2021) EndedAt: 2021-10-15 03:14:15 -0400 (Fri, 15 Oct 2021) EllapsedTime: 66.0 seconds RetCode: 0 Status: OK PackageFile: MSstatsPTM_1.2.4.tgz PackageFileSize: 2.041 MiB