Package: MSstatsPTM Version: 1.2.4 Command: /Library/Frameworks/R.framework/Versions/Current/Resources/bin/R CMD build --keep-empty-dirs --no-resave-data MSstatsPTM StartedAt: 2021-10-14 13:25:43 -0400 (Thu, 14 Oct 2021) EndedAt: 2021-10-14 13:27:28 -0400 (Thu, 14 Oct 2021) EllapsedTime: 105.6 seconds RetCode: 0 Status: OK PackageFile: MSstatsPTM_1.2.4.tar.gz PackageFileSize: 1.695 MiB