Package: MSstatsPTM Version: 1.2.4 Command: /home/biocbuild/bbs-3.13-bioc/R/bin/R CMD build --keep-empty-dirs --no-resave-data MSstatsPTM StartedAt: 2021-10-14 07:48:40 -0400 (Thu, 14 Oct 2021) EndedAt: 2021-10-14 07:49:54 -0400 (Thu, 14 Oct 2021) EllapsedTime: 74.5 seconds RetCode: 0 Status: OK PackageFile: MSstatsPTM_1.2.4.tar.gz PackageFileSize: 1.737 MiB