Package: MSstatsPTM Version: 1.2.4 Command: /home/biocbuild/bbs-3.13-bioc/R/bin/R CMD INSTALL MSstatsPTM StartedAt: 2021-10-14 06:11:13 -0400 (Thu, 14 Oct 2021) EndedAt: 2021-10-14 06:11:37 -0400 (Thu, 14 Oct 2021) EllapsedTime: 24.9 seconds RetCode: 0 Status: OK