Package: MSstatsQC Version: 2.10.0 Command: rm -rf MSstatsQC.buildbin-libdir && mkdir MSstatsQC.buildbin-libdir && /Users/biocbuild/BBS/utils/build-universal.sh MSstatsQC_2.10.0.tar.gz /Library/Frameworks/R.framework/Versions/Current/Resources/bin/R MSstatsQC.buildbin-libdir StartedAt: 2021-10-15 03:13:16 -0400 (Fri, 15 Oct 2021) EndedAt: 2021-10-15 03:14:21 -0400 (Fri, 15 Oct 2021) EllapsedTime: 65.6 seconds RetCode: 0 Status: OK PackageFile: MSstatsQC_2.10.0.tgz PackageFileSize: 2.026 MiB