Package: MSstatsQC Version: 2.10.0 Command: /home/biocbuild/bbs-3.13-bioc/R/bin/R CMD INSTALL MSstatsQC StartedAt: 2021-10-14 06:19:12 -0400 (Thu, 14 Oct 2021) EndedAt: 2021-10-14 06:19:29 -0400 (Thu, 14 Oct 2021) EllapsedTime: 16.4 seconds RetCode: 0 Status: OK