Package: MSstatsQC Version: 2.10.0 Command: C:\Users\biocbuild\bbs-3.13-bioc\R\bin\R.exe CMD check --force-multiarch --install=check:MSstatsQC.install-out.txt --library=C:\Users\biocbuild\bbs-3.13-bioc\R\library --no-vignettes --timings MSstatsQC_2.10.0.tar.gz StartedAt: 2021-10-15 02:23:39 -0400 (Fri, 15 Oct 2021) EndedAt: 2021-10-15 02:27:06 -0400 (Fri, 15 Oct 2021) EllapsedTime: 206.4 seconds RetCode: 0 Status: OK CheckDir: MSstatsQC.Rcheck Warnings: 0