git_url: https://git.bioconductor.org/packages/MSstatsSampleSize git_branch: RELEASE_3_13 git_last_commit: 0e335a0 git_last_commit_date: 2021-05-19 12:46:46 -0400 (Wed, 19 May 2021) Package: MSstatsSampleSize Version: 1.6.0 Maintainer: Ting Huang MaintainerEmail: thuang0703 at gmail.com