git_url: https://git.bioconductor.org/packages/MVCClass git_branch: RELEASE_3_13 git_last_commit: 895bfdc git_last_commit_date: 2021-05-19 11:35:02 -0400 (Wed, 19 May 2021) Package: MVCClass Version: 1.66.0 Maintainer: Elizabeth Whalen MaintainerEmail: ewhalen at hsph.harvard.edu