Package: Mergeomics Version: 1.20.0 Command: /Library/Frameworks/R.framework/Versions/Current/Resources/bin/R CMD INSTALL Mergeomics StartedAt: 2021-10-14 08:05:49 -0400 (Thu, 14 Oct 2021) EndedAt: 2021-10-14 08:06:36 -0400 (Thu, 14 Oct 2021) EllapsedTime: 46.4 seconds RetCode: 0 Status: OK