Package: Mergeomics Version: 1.20.0 Command: chmod a+r Mergeomics -R && C:\Users\biocbuild\bbs-3.13-bioc\R\bin\R.exe CMD build --keep-empty-dirs --no-resave-data Mergeomics StartedAt: 2021-10-14 15:28:44 -0400 (Thu, 14 Oct 2021) EndedAt: 2021-10-14 15:34:36 -0400 (Thu, 14 Oct 2021) EllapsedTime: 351.3 seconds RetCode: 0 Status: OK PackageFile: Mergeomics_1.20.0.tar.gz PackageFileSize: 3.147 MiB