Package: MetNet Version: 1.10.0 Command: /home/biocbuild/bbs-3.13-bioc/R/bin/R CMD build --keep-empty-dirs --no-resave-data MetNet StartedAt: 2021-10-14 07:43:44 -0400 (Thu, 14 Oct 2021) EndedAt: 2021-10-14 07:44:25 -0400 (Thu, 14 Oct 2021) EllapsedTime: 40.3 seconds RetCode: 0 Status: OK PackageFile: MetNet_1.10.0.tar.gz PackageFileSize: 3.995 MiB