Package: MetNet Version: 1.10.0 Command: chmod a+r MetNet -R && C:\Users\biocbuild\bbs-3.13-bioc\R\bin\R.exe CMD build --keep-empty-dirs --no-resave-data MetNet StartedAt: 2021-10-14 15:39:10 -0400 (Thu, 14 Oct 2021) EndedAt: 2021-10-14 15:40:21 -0400 (Thu, 14 Oct 2021) EllapsedTime: 71.3 seconds RetCode: 0 Status: OK PackageFile: MetNet_1.10.0.tar.gz PackageFileSize: 3.785 MiB