git_url: https://git.bioconductor.org/packages/MetaCyto git_branch: RELEASE_3_13 git_last_commit: 39b62a4 git_last_commit_date: 2021-05-19 12:31:44 -0400 (Wed, 19 May 2021) Package: MetaCyto Version: 1.14.0 Maintainer: Zicheng Hu MaintainerEmail: zicheng.hu at ucsf.edu