git_url: https://git.bioconductor.org/packages/MethPed git_branch: RELEASE_3_13 git_last_commit: 8b346a2 git_last_commit_date: 2021-05-19 12:18:26 -0400 (Wed, 19 May 2021) Package: MethPed Version: 1.20.0 Maintainer: Helena Carén MaintainerEmail: helenacarenlab at gmail.com