Package: MethReg Version: 1.2.1 Command: /Library/Frameworks/R.framework/Versions/Current/Resources/bin/R CMD build --keep-empty-dirs --no-resave-data MethReg StartedAt: 2021-10-14 13:08:30 -0400 (Thu, 14 Oct 2021) EndedAt: 2021-10-14 13:13:30 -0400 (Thu, 14 Oct 2021) EllapsedTime: 299.4 seconds RetCode: 0 Status: OK PackageFile: MethReg_1.2.1.tar.gz PackageFileSize: 4.778 MiB