Package: MethReg Version: 1.2.1 Command: /Library/Frameworks/R.framework/Versions/Current/Resources/bin/R CMD INSTALL MethReg StartedAt: 2021-10-14 10:17:55 -0400 (Thu, 14 Oct 2021) EndedAt: 2021-10-14 10:18:41 -0400 (Thu, 14 Oct 2021) EllapsedTime: 46.1 seconds RetCode: 0 Status: OK