Package: MethReg Version: 1.2.1 Command: /home/biocbuild/bbs-3.13-bioc/R/bin/R CMD build --keep-empty-dirs --no-resave-data MethReg StartedAt: 2021-10-14 07:41:45 -0400 (Thu, 14 Oct 2021) EndedAt: 2021-10-14 07:45:32 -0400 (Thu, 14 Oct 2021) EllapsedTime: 226.7 seconds RetCode: 0 Status: OK PackageFile: MethReg_1.2.1.tar.gz PackageFileSize: 4.784 MiB