Package: MethReg Version: 1.2.1 Command: /home/biocbuild/bbs-3.13-bioc/R/bin/R CMD check --install=check:MethReg.install-out.txt --library=/home/biocbuild/bbs-3.13-bioc/R/library --no-vignettes --timings MethReg_1.2.1.tar.gz StartedAt: 2021-10-14 10:32:03 -0400 (Thu, 14 Oct 2021) EndedAt: 2021-10-14 10:38:16 -0400 (Thu, 14 Oct 2021) EllapsedTime: 373.4 seconds RetCode: 0 Status: OK CheckDir: MethReg.Rcheck Warnings: 0