Package: MethReg Version: 1.2.1 Command: /home/biocbuild/bbs-3.13-bioc/R/bin/R CMD INSTALL MethReg StartedAt: 2021-10-14 06:31:32 -0400 (Thu, 14 Oct 2021) EndedAt: 2021-10-14 06:32:01 -0400 (Thu, 14 Oct 2021) EllapsedTime: 29.1 seconds RetCode: 0 Status: OK