Package: MethReg Version: 1.2.1 Command: rm -rf MethReg.buildbin-libdir && mkdir MethReg.buildbin-libdir && C:\Users\biocbuild\bbs-3.13-bioc\R\bin\R.exe CMD INSTALL --merge-multiarch --build --library=MethReg.buildbin-libdir MethReg_1.2.1.tar.gz StartedAt: 2021-10-15 10:20:01 -0400 (Fri, 15 Oct 2021) EndedAt: 2021-10-15 10:21:29 -0400 (Fri, 15 Oct 2021) EllapsedTime: 88.1 seconds RetCode: 0 Status: OK PackageFile: MethReg_1.2.1.zip PackageFileSize: 3.983 MiB