Package: MethReg Version: 1.2.1 Command: chmod a+r MethReg -R && C:\Users\biocbuild\bbs-3.13-bioc\R\bin\R.exe CMD build --keep-empty-dirs --no-resave-data MethReg StartedAt: 2021-10-14 15:34:18 -0400 (Thu, 14 Oct 2021) EndedAt: 2021-10-14 15:39:10 -0400 (Thu, 14 Oct 2021) EllapsedTime: 292.3 seconds RetCode: 0 Status: OK PackageFile: MethReg_1.2.1.tar.gz PackageFileSize: 4.652 MiB