git_url: https://git.bioconductor.org/packages/MethTargetedNGS git_branch: RELEASE_3_13 git_last_commit: ca02db6 git_last_commit_date: 2021-05-19 12:13:05 -0400 (Wed, 19 May 2021) Package: MethTargetedNGS Version: 1.24.0 Maintainer: Muhammad Ahmer Jamil MaintainerEmail: engr.ahmerjamil at gmail.com