Package: MethylAid Version: 1.26.0 Command: /Library/Frameworks/R.framework/Versions/Current/Resources/bin/R CMD INSTALL MethylAid StartedAt: 2021-10-14 09:58:09 -0400 (Thu, 14 Oct 2021) EndedAt: 2021-10-14 09:59:01 -0400 (Thu, 14 Oct 2021) EllapsedTime: 51.2 seconds RetCode: 0 Status: OK