Package: MethylAid Version: 1.26.0 Command: /home/biocbuild/bbs-3.13-bioc/R/bin/R CMD build --keep-empty-dirs --no-resave-data MethylAid StartedAt: 2021-10-14 07:42:19 -0400 (Thu, 14 Oct 2021) EndedAt: 2021-10-14 07:45:03 -0400 (Thu, 14 Oct 2021) EllapsedTime: 164.0 seconds RetCode: 0 Status: OK PackageFile: MethylAid_1.26.0.tar.gz PackageFileSize: 2.99 MiB