Package: MethylAid Version: 1.26.0 Command: /home/biocbuild/bbs-3.13-bioc/R/bin/R CMD check --install=check:MethylAid.install-out.txt --library=/home/biocbuild/bbs-3.13-bioc/R/library --no-vignettes --timings MethylAid_1.26.0.tar.gz StartedAt: 2021-10-14 10:32:26 -0400 (Thu, 14 Oct 2021) EndedAt: 2021-10-14 10:41:12 -0400 (Thu, 14 Oct 2021) EllapsedTime: 525.9 seconds RetCode: 0 Status: OK CheckDir: MethylAid.Rcheck Warnings: 0