Package: MethylMix Version: 2.22.0 Command: /home/biocbuild/bbs-3.13-bioc/R/bin/R CMD build --keep-empty-dirs --no-resave-data MethylMix StartedAt: 2021-10-14 07:42:30 -0400 (Thu, 14 Oct 2021) EndedAt: 2021-10-14 07:42:57 -0400 (Thu, 14 Oct 2021) EllapsedTime: 26.4 seconds RetCode: 0 Status: OK PackageFile: MethylMix_2.22.0.tar.gz PackageFileSize: 2.575 MiB