Package: MethylMix Version: 2.22.0 Command: /home/biocbuild/bbs-3.13-bioc/R/bin/R CMD check --install=check:MethylMix.install-out.txt --library=/home/biocbuild/bbs-3.13-bioc/R/library --no-vignettes --timings MethylMix_2.22.0.tar.gz StartedAt: 2021-10-14 10:33:04 -0400 (Thu, 14 Oct 2021) EndedAt: 2021-10-14 10:34:54 -0400 (Thu, 14 Oct 2021) EllapsedTime: 110.4 seconds RetCode: 0 Status: OK CheckDir: MethylMix.Rcheck Warnings: 0