Package: MethylMix Version: 2.22.0 Command: C:\cygwin\bin\curl.exe -O http://155.52.207.165/BBS/3.13/bioc/src/contrib/MethylMix_2.22.0.tar.gz && rm -rf MethylMix.buildbin-libdir && mkdir MethylMix.buildbin-libdir && C:\Users\biocbuild\bbs-3.13-bioc\R\bin\R.exe CMD INSTALL --merge-multiarch --build --library=MethylMix.buildbin-libdir MethylMix_2.22.0.tar.gz && C:\Users\biocbuild\bbs-3.13-bioc\R\bin\R.exe CMD INSTALL MethylMix_2.22.0.zip && rm MethylMix_2.22.0.tar.gz MethylMix_2.22.0.zip StartedAt: 2021-10-14 08:23:39 -0400 (Thu, 14 Oct 2021) EndedAt: 2021-10-14 08:24:53 -0400 (Thu, 14 Oct 2021) EllapsedTime: 73.6 seconds RetCode: 0 Status: OK