Package: Mfuzz Version: 2.52.0 Command: /home/biocbuild/bbs-3.13-bioc/R/bin/R CMD build --keep-empty-dirs --no-resave-data Mfuzz StartedAt: 2021-10-14 07:43:59 -0400 (Thu, 14 Oct 2021) EndedAt: 2021-10-14 07:44:08 -0400 (Thu, 14 Oct 2021) EllapsedTime: 9.3 seconds RetCode: 0 Status: OK PackageFile: Mfuzz_2.52.0.tar.gz PackageFileSize: 694.8 KiB