Package: MiChip Version: 1.46.0 Command: rm -rf MiChip.buildbin-libdir && mkdir MiChip.buildbin-libdir && C:\Users\biocbuild\bbs-3.13-bioc\R\bin\R.exe CMD INSTALL --merge-multiarch --build --library=MiChip.buildbin-libdir MiChip_1.46.0.tar.gz StartedAt: 2021-10-15 10:23:27 -0400 (Fri, 15 Oct 2021) EndedAt: 2021-10-15 10:25:00 -0400 (Fri, 15 Oct 2021) EllapsedTime: 93.0 seconds RetCode: 0 Status: OK PackageFile: MiChip_1.46.0.zip PackageFileSize: 666.8 KiB