Package: MiChip Version: 1.46.0 Command: C:\cygwin\bin\curl.exe -O http://155.52.207.165/BBS/3.13/bioc/src/contrib/MiChip_1.46.0.tar.gz && rm -rf MiChip.buildbin-libdir && mkdir MiChip.buildbin-libdir && C:\Users\biocbuild\bbs-3.13-bioc\R\bin\R.exe CMD INSTALL --merge-multiarch --build --library=MiChip.buildbin-libdir MiChip_1.46.0.tar.gz && C:\Users\biocbuild\bbs-3.13-bioc\R\bin\R.exe CMD INSTALL MiChip_1.46.0.zip && rm MiChip_1.46.0.tar.gz MiChip_1.46.0.zip StartedAt: 2021-10-14 07:30:09 -0400 (Thu, 14 Oct 2021) EndedAt: 2021-10-14 07:33:35 -0400 (Thu, 14 Oct 2021) EllapsedTime: 205.6 seconds RetCode: 0 Status: OK