Package: MiRaGE Version: 1.34.0 Command: /home/biocbuild/bbs-3.13-bioc/R/bin/R CMD INSTALL MiRaGE StartedAt: 2021-10-14 06:08:49 -0400 (Thu, 14 Oct 2021) EndedAt: 2021-10-14 06:09:02 -0400 (Thu, 14 Oct 2021) EllapsedTime: 12.6 seconds RetCode: 0 Status: OK