Package: MinimumDistance Version: 1.36.0 Command: /Library/Frameworks/R.framework/Versions/Current/Resources/bin/R CMD build --keep-empty-dirs --no-resave-data MinimumDistance StartedAt: 2021-10-14 13:15:40 -0400 (Thu, 14 Oct 2021) EndedAt: 2021-10-14 13:17:17 -0400 (Thu, 14 Oct 2021) EllapsedTime: 96.9 seconds RetCode: 0 Status: OK PackageFile: MinimumDistance_1.36.0.tar.gz PackageFileSize: 2.466 MiB