Package: MsBackendMassbank Version: 1.0.0 Command: rm -rf MsBackendMassbank.buildbin-libdir && mkdir MsBackendMassbank.buildbin-libdir && C:\Users\biocbuild\bbs-3.13-bioc\R\bin\R.exe CMD INSTALL --merge-multiarch --build --library=MsBackendMassbank.buildbin-libdir MsBackendMassbank_1.0.0.tar.gz StartedAt: 2021-10-15 10:32:20 -0400 (Fri, 15 Oct 2021) EndedAt: 2021-10-15 10:33:34 -0400 (Fri, 15 Oct 2021) EllapsedTime: 74.2 seconds RetCode: 0 Status: OK PackageFile: MsBackendMassbank_1.0.0.zip PackageFileSize: 671.2 KiB