Package: MsBackendMassbank Version: 1.0.0 Command: chmod a+r MsBackendMassbank -R && C:\Users\biocbuild\bbs-3.13-bioc\R\bin\R.exe CMD build --keep-empty-dirs --no-resave-data MsBackendMassbank StartedAt: 2021-10-14 15:54:11 -0400 (Thu, 14 Oct 2021) EndedAt: 2021-10-14 15:55:13 -0400 (Thu, 14 Oct 2021) EllapsedTime: 61.8 seconds RetCode: 0 Status: OK PackageFile: MsBackendMassbank_1.0.0.tar.gz PackageFileSize: 378.8 KiB