Package: MsBackendMassbank Version: 1.0.0 Command: C:\cygwin\bin\curl.exe -O http://155.52.207.165/BBS/3.13/bioc/src/contrib/MsBackendMassbank_1.0.0.tar.gz && rm -rf MsBackendMassbank.buildbin-libdir && mkdir MsBackendMassbank.buildbin-libdir && C:\Users\biocbuild\bbs-3.13-bioc\R\bin\R.exe CMD INSTALL --merge-multiarch --build --library=MsBackendMassbank.buildbin-libdir MsBackendMassbank_1.0.0.tar.gz && C:\Users\biocbuild\bbs-3.13-bioc\R\bin\R.exe CMD INSTALL MsBackendMassbank_1.0.0.zip && rm MsBackendMassbank_1.0.0.tar.gz MsBackendMassbank_1.0.0.zip StartedAt: 2021-10-14 07:55:09 -0400 (Thu, 14 Oct 2021) EndedAt: 2021-10-14 07:55:55 -0400 (Thu, 14 Oct 2021) EllapsedTime: 45.0 seconds RetCode: 0 Status: OK