git_url: https://git.bioconductor.org/packages/MsBackendMgf git_branch: RELEASE_3_13 git_last_commit: 291d8e9 git_last_commit_date: 2021-05-19 13:00:39 -0400 (Wed, 19 May 2021) Package: MsBackendMgf Version: 1.0.0 Maintainer: RforMassSpectrometry Package Maintainer MaintainerEmail: maintainer at rformassspectrometry.org