Package: MsCoreUtils Version: 1.4.0 Command: rm -rf MsCoreUtils.buildbin-libdir && mkdir MsCoreUtils.buildbin-libdir && C:\Users\biocbuild\bbs-3.13-bioc\R\bin\R.exe CMD INSTALL --merge-multiarch --build --library=MsCoreUtils.buildbin-libdir MsCoreUtils_1.4.0.tar.gz StartedAt: 2021-10-15 10:32:37 -0400 (Fri, 15 Oct 2021) EndedAt: 2021-10-15 10:33:50 -0400 (Fri, 15 Oct 2021) EllapsedTime: 73.6 seconds RetCode: 0 Status: OK PackageFile: MsCoreUtils_1.4.0.zip PackageFileSize: 526.4 KiB