Package: MsCoreUtils Version: 1.4.0 Command: chmod a+r MsCoreUtils -R && C:\Users\biocbuild\bbs-3.13-bioc\R\bin\R.exe CMD build --keep-empty-dirs --no-resave-data MsCoreUtils StartedAt: 2021-10-14 15:54:40 -0400 (Thu, 14 Oct 2021) EndedAt: 2021-10-14 15:56:04 -0400 (Thu, 14 Oct 2021) EllapsedTime: 84.1 seconds RetCode: 0 Status: OK PackageFile: MsCoreUtils_1.4.0.tar.gz PackageFileSize: 388 KiB