Package: MsFeatures Version: 1.0.0 Command: /home/biocbuild/bbs-3.13-bioc/R/bin/R CMD build --keep-empty-dirs --no-resave-data MsFeatures StartedAt: 2021-10-14 07:48:15 -0400 (Thu, 14 Oct 2021) EndedAt: 2021-10-14 07:48:44 -0400 (Thu, 14 Oct 2021) EllapsedTime: 28.9 seconds RetCode: 0 Status: OK PackageFile: MsFeatures_1.0.0.tar.gz PackageFileSize: 1.077 MiB