Package: MsFeatures Version: 1.0.0 Command: chmod a+r MsFeatures -R && C:\Users\biocbuild\bbs-3.13-bioc\R\bin\R.exe CMD build --keep-empty-dirs --no-resave-data MsFeatures StartedAt: 2021-10-14 15:55:04 -0400 (Thu, 14 Oct 2021) EndedAt: 2021-10-14 15:56:21 -0400 (Thu, 14 Oct 2021) EllapsedTime: 77.1 seconds RetCode: 0 Status: OK PackageFile: MsFeatures_1.0.0.tar.gz PackageFileSize: 793.6 KiB